BEGIN:VCALENDAR
METHOD:PUBLISH
PRODID:www-angam-phil-fau-de//Events//EN
VERSION:2.0
BEGIN:VEVENT
SUMMARY:Guest Lecture by Alina Aulbur (Universität Siegen): “France
 s Burney’s Evelina: Sentimental Subversion”
UID:719e-b338-a90a-29091@www.angam.phil.fau.de
DESCRIPTION:Alina Aulbur will give a guest lecture in Dr. Dennis Henne
 böhl’s seminar “The Sentimental Mode in the 18th Century”. The 
 topic will be “Frances Burney’s Evelina: Sentimental Subversion”
 \, discussing Burney’s engagement with the eighteenth-century litera
 ry tradition of sentimentalism in her first novel. The Institute for E
 nglish and American Studies is excited to welcome Alina Aulbur\, who i
 s an expert in Eighteenth-Century Studies\, especially the work of Fra
 nces Burney. This is an event from the Chair of English Culture and Li
 terature. If you would like to register\, please contact Dr. Dennis He
 nneböhl at dennis.henneboehl@fau.de.
DTSTART:20250723T160000Z
DTEND:20250723T180000Z
LOCATION:C301\, Bismarckstraße 1
DTSTAMP:20260421T120527Z
END:VEVENT
END:VCALENDAR