BEGIN:VCALENDAR
METHOD:PUBLISH
PRODID:www-angam-phil-fau-de//Events//EN
VERSION:2.0
BEGIN:VEVENT
SUMMARY:[Vortrag] „Die Verhandlung des Wertbegriffs in der heutigen 
 (britischen) Kultur“\, Prof. Dr. Gerold Sedlmayr
UID:040000008200E00074C5B7101A82E00800000000C02C8BE5C540DB010000000000
 0000001000000036977CA73241074387DC8EADDBEC1B3F
DESCRIPTION:Prof. Dr. Gerold Sedlmayr: „Die Verhandlung des Wertbegr
 iffs in der heutigen (britischen) Kultur“ Wert ist ein allgegenwärt
 iger\, gleichzeitig aber höchst umkämpfter Begriff\, was nicht zulet
 zt daran liegen mag\, dass er in unterschiedlichen Diskursen unterschi
 edlich verwendet und auch instrumentalisiert wird. Zumindest auf den e
 rsten Blick scheint beispielsweise die ökonomische Verwendung des Beg
 riffs (Gebrauchswert\, Tauschwert usw.) nichts mit ethisch-moralischen
  oder gar ästhetischen Verständnissen von Wert zu tun zu haben. Anha
 nd von Beispielen aus dem britischen Kontext möchte der Vortrag eine 
 Diskussion darüber anregen\, inwiefern insbesondere die Literatur Ver
 bindungslinien zwischen den verschiedenen Verwendungsweisen offenlegen
  und gleichzeitig eine Brückenbaufunktion erfüllen kann. Der Vortrag
  findet im Rahmen der FAU Scientia Vorlesungsreihe statt: https://www.
 scientia.fau.de/studienangebot/fau-scientia-vorlesungsreihe/#collapse_
 6.
DTSTART:20241204T141500Z
DTEND:20241204T164500Z
LOCATION:Senatssaal (KH 1.011)\, Kollegienhaus\, Universitätsstr. 15\
 , Erlangen
DTSTAMP:20260422T215150Z
END:VEVENT
END:VCALENDAR