BEGIN:VCALENDAR
METHOD:PUBLISH
PRODID:www-angam-phil-fau-de//Events//EN
VERSION:2.0
BEGIN:VEVENT
SUMMARY:Ringvorlesung: Podiumsdiskussion zur Gegenwart und Zukunft der
  Arbeitsteilung
UID:3eb1-22c2-e9e5-23966@www.angam.phil.fau.de
DESCRIPTION:Es diskutieren: Iuditha Balint (Fritz-Hüser-Institut für
  Literatur und Kultur der Arbeitswelt\, Dortmund)\, Sandra Fluhrer (Ge
 rmanistik/Komparatistik – FAU)\, Claudia Lillge (Anglistik – FAU)\
 , Carmen Losmann (Autorin und Regisseurin\, Köln)\, Rainer Trinczek (
 Soziologie – FAU) Der Vortrag ist Teil der Ringvorlesung Sozialfigur
 en der Arbeit. Beruf\, Diversität\, Performanz des Interdisziplinäre
 n Zentrums Gender-Differenz-Diversität. Kontakt: PD Dr. Sandra Fluhre
 r\, Germanistik/Komparatistik (sandra.fluhrer@fau.de)\, Prof. Dr. Clau
 dia Lillge\, Anglistik (claudia.lillge@fau.de)
DTSTART:20240708T181500Z
DTEND:20240708T194500Z
LOCATION:Kollegienhaus\, Raum: 1.019\, Universitätsstraße 15\, 91054
  Erlangen
DTSTAMP:20260421T120527Z
END:VEVENT
END:VCALENDAR